Package: DeeDeeExperiment Version: 0.99.5 Command: /home/biocbuild/bbs-3.22-bioc/R/bin/R CMD INSTALL DeeDeeExperiment StartedAt: 2025-10-03 15:20:55 -0400 (Fri, 03 Oct 2025) EndedAt: 2025-10-03 15:21:25 -0400 (Fri, 03 Oct 2025) EllapsedTime: 30.8 seconds RetCode: 0 Status: OK