Package: DeeDeeExperiment Version: 0.99.5 Command: /home/biocbuild/bbs-3.22-bioc/R/bin/R CMD check --install=check:DeeDeeExperiment.install-out.txt --library=/home/biocbuild/bbs-3.22-bioc/R/site-library --timings DeeDeeExperiment_0.99.5.tar.gz StartedAt: 2025-10-05 23:06:28 -0400 (Sun, 05 Oct 2025) EndedAt: 2025-10-05 23:11:47 -0400 (Sun, 05 Oct 2025) EllapsedTime: 318.4 seconds RetCode: 0 Status: OK CheckDir: DeeDeeExperiment.Rcheck Warnings: 0