Package: DeeDeeExperiment Version: 0.99.5 Command: /home/biocbuild/bbs-3.22-bioc/R/bin/R CMD build --keep-empty-dirs --no-resave-data --md5 DeeDeeExperiment StartedAt: 2025-10-05 17:12:26 -0400 (Sun, 05 Oct 2025) EndedAt: 2025-10-05 17:13:26 -0400 (Sun, 05 Oct 2025) EllapsedTime: 60.0 seconds RetCode: 0 Status: OK PackageFile: DeeDeeExperiment_0.99.5.tar.gz PackageFileSize: 4.506 MiB