Package: DeeDeeExperiment Version: 0.99.5 Command: /Library/Frameworks/R.framework/Resources/bin/R CMD INSTALL DeeDeeExperiment StartedAt: 2025-10-03 15:21:40 -0400 (Fri, 03 Oct 2025) EndedAt: 2025-10-03 15:22:22 -0400 (Fri, 03 Oct 2025) EllapsedTime: 42.9 seconds RetCode: 0 Status: OK