Package: DeeDeeExperiment Version: 0.99.5 Command: /Library/Frameworks/R.framework/Resources/bin/R CMD check --install=check:DeeDeeExperiment.install-out.txt --library=/Library/Frameworks/R.framework/Resources/library --no-vignettes --timings DeeDeeExperiment_0.99.5.tar.gz StartedAt: 2025-10-05 20:55:32 -0400 (Sun, 05 Oct 2025) EndedAt: 2025-10-05 21:00:20 -0400 (Sun, 05 Oct 2025) EllapsedTime: 288.5 seconds RetCode: 0 Status: OK CheckDir: DeeDeeExperiment.Rcheck Warnings: 0