Package: DeeDeeExperiment Version: 0.99.5 Command: /Library/Frameworks/R.framework/Resources/bin/R CMD build --keep-empty-dirs --no-resave-data DeeDeeExperiment StartedAt: 2025-10-05 16:41:16 -0400 (Sun, 05 Oct 2025) EndedAt: 2025-10-05 16:43:05 -0400 (Sun, 05 Oct 2025) EllapsedTime: 108.6 seconds RetCode: 0 Status: OK PackageFile: DeeDeeExperiment_0.99.5.tar.gz PackageFileSize: 4.503 MiB