Package: DeeDeeExperiment Version: 0.99.5 Command: rm -rf DeeDeeExperiment.buildbin-libdir && mkdir DeeDeeExperiment.buildbin-libdir && /Users/biocbuild/BBS/utils/build-universal.sh DeeDeeExperiment_0.99.5.tar.gz /Library/Frameworks/R.framework/Resources/bin/R DeeDeeExperiment.buildbin-libdir StartedAt: 2025-10-04 02:01:30 -0400 (Sat, 04 Oct 2025) EndedAt: 2025-10-04 02:02:15 -0400 (Sat, 04 Oct 2025) EllapsedTime: 45.0 seconds RetCode: 0 Status: OK PackageFile: DeeDeeExperiment_0.99.5.tgz PackageFileSize: 4.688 MiB