Package: DeeDeeExperiment Version: 0.99.5 Command: /Library/Frameworks/R.framework/Resources/bin/R CMD INSTALL DeeDeeExperiment StartedAt: 2025-10-03 15:13:50 -0400 (Fri, 03 Oct 2025) EndedAt: 2025-10-03 15:14:03 -0400 (Fri, 03 Oct 2025) EllapsedTime: 12.1 seconds RetCode: 0 Status: OK