Package: DeeDeeExperiment Version: 0.99.5 Command: /Library/Frameworks/R.framework/Resources/bin/R CMD check --install=check:DeeDeeExperiment.install-out.txt --library=/Library/Frameworks/R.framework/Resources/library --no-vignettes --timings DeeDeeExperiment_0.99.5.tar.gz StartedAt: 2025-10-03 19:04:57 -0400 (Fri, 03 Oct 2025) EndedAt: 2025-10-03 19:06:32 -0400 (Fri, 03 Oct 2025) EllapsedTime: 95.1 seconds RetCode: 0 Status: OK CheckDir: DeeDeeExperiment.Rcheck Warnings: 0