Package: DeconvoBuddies Version: 1.1.5 Command: /Library/Frameworks/R.framework/Resources/bin/R CMD check --install=check:DeconvoBuddies.install-out.txt --library=/Library/Frameworks/R.framework/Resources/library --no-vignettes --timings DeconvoBuddies_1.1.5.tar.gz StartedAt: 2025-10-10 21:08:42 -0400 (Fri, 10 Oct 2025) EndedAt: 2025-10-10 21:19:27 -0400 (Fri, 10 Oct 2025) EllapsedTime: 645.0 seconds RetCode: 0 Status: OK CheckDir: DeconvoBuddies.Rcheck Warnings: 0