Package: DeconvoBuddies Version: 1.1.5 Command: /Library/Frameworks/R.framework/Resources/bin/R CMD build --keep-empty-dirs --no-resave-data DeconvoBuddies StartedAt: 2025-10-10 16:48:53 -0400 (Fri, 10 Oct 2025) EndedAt: 2025-10-10 17:10:13 -0400 (Fri, 10 Oct 2025) EllapsedTime: 1279.7 seconds RetCode: 0 Status: OK PackageFile: DeconvoBuddies_1.1.5.tar.gz PackageFileSize: 6.139 MiB