Package: DeconvoBuddies Version: 1.1.5 Command: rm -rf DeconvoBuddies.buildbin-libdir && mkdir DeconvoBuddies.buildbin-libdir && /Users/biocbuild/BBS/utils/build-universal.sh DeconvoBuddies_1.1.5.tar.gz /Library/Frameworks/R.framework/Resources/bin/R DeconvoBuddies.buildbin-libdir StartedAt: 2025-10-11 02:25:38 -0400 (Sat, 11 Oct 2025) EndedAt: 2025-10-11 02:26:50 -0400 (Sat, 11 Oct 2025) EllapsedTime: 71.8 seconds RetCode: 0 Status: OK PackageFile: DeconvoBuddies_1.1.5.tgz PackageFileSize: 6.184 MiB