Package: DeconvoBuddies Version: 1.1.5 Command: /Library/Frameworks/R.framework/Resources/bin/R CMD INSTALL DeconvoBuddies StartedAt: 2025-10-10 15:31:45 -0400 (Fri, 10 Oct 2025) EndedAt: 2025-10-10 15:32:13 -0400 (Fri, 10 Oct 2025) EllapsedTime: 27.9 seconds RetCode: 0 Status: OK