Package: DeconvoBuddies Version: 1.1.5 Command: rm -rf DeconvoBuddies.buildbin-libdir && mkdir DeconvoBuddies.buildbin-libdir && /Users/biocbuild/BBS/utils/build-universal.sh DeconvoBuddies_1.1.5.tar.gz /Library/Frameworks/R.framework/Resources/bin/R DeconvoBuddies.buildbin-libdir StartedAt: 2025-10-10 22:38:16 -0400 (Fri, 10 Oct 2025) EndedAt: 2025-10-10 22:38:38 -0400 (Fri, 10 Oct 2025) EllapsedTime: 22.5 seconds RetCode: 0 Status: OK PackageFile: DeconvoBuddies_1.1.5.tgz PackageFileSize: 6.234 MiB