Package: DeconRNASeq Version: 1.51.0 Command: /home/biocbuild/R/R/bin/R CMD INSTALL DeconRNASeq StartedAt: 2025-07-17 20:22:57 -0000 (Thu, 17 Jul 2025) EndedAt: 2025-07-17 20:23:08 -0000 (Thu, 17 Jul 2025) EllapsedTime: 10.7 seconds RetCode: 0 Status: OK