Package: DeconRNASeq Version: 1.51.0 Command: /home/biocbuild/R/R/bin/R CMD build --keep-empty-dirs --no-resave-data DeconRNASeq StartedAt: 2025-07-17 23:13:47 -0000 (Thu, 17 Jul 2025) EndedAt: 2025-07-17 23:14:02 -0000 (Thu, 17 Jul 2025) EllapsedTime: 15.0 seconds RetCode: 0 Status: OK PackageFile: DeconRNASeq_1.51.0.tar.gz PackageFileSize: 6.616 MiB