Package: DeconRNASeq Version: 1.51.0 Command: F:\biocbuild\bbs-3.22-bioc\R\bin\R.exe CMD INSTALL DeconRNASeq StartedAt: 2025-07-24 15:48:38 -0400 (Thu, 24 Jul 2025) EndedAt: 2025-07-24 15:49:00 -0400 (Thu, 24 Jul 2025) EllapsedTime: 22.5 seconds RetCode: 0 Status: OK