Package: DeconRNASeq Version: 1.51.0 Command: rm -rf DeconRNASeq.buildbin-libdir && mkdir DeconRNASeq.buildbin-libdir && F:\biocbuild\bbs-3.22-bioc\R\bin\R.exe CMD INSTALL --build --library=DeconRNASeq.buildbin-libdir DeconRNASeq_1.51.0.tar.gz StartedAt: 2025-07-25 09:05:04 -0400 (Fri, 25 Jul 2025) EndedAt: 2025-07-25 09:05:36 -0400 (Fri, 25 Jul 2025) EllapsedTime: 32.1 seconds RetCode: 0 Status: OK PackageFile: DeconRNASeq_1.51.0.zip PackageFileSize: 6.582 MiB