Package: DeconRNASeq Version: 1.51.0 Command: rm -rf DeconRNASeq.buildbin-libdir && mkdir DeconRNASeq.buildbin-libdir && /Users/biocbuild/BBS/utils/build-universal.sh DeconRNASeq_1.51.0.tar.gz /Library/Frameworks/R.framework/Resources/bin/R DeconRNASeq.buildbin-libdir StartedAt: 2025-07-02 00:53:28 -0400 (Wed, 02 Jul 2025) EndedAt: 2025-07-02 00:53:40 -0400 (Wed, 02 Jul 2025) EllapsedTime: 11.5 seconds RetCode: 0 Status: OK PackageFile: DeconRNASeq_1.51.0.tgz PackageFileSize: 6.661 MiB