Package: DeconRNASeq Version: 1.51.0 Command: /Library/Frameworks/R.framework/Resources/bin/R CMD INSTALL DeconRNASeq StartedAt: 2025-07-01 15:06:57 -0400 (Tue, 01 Jul 2025) EndedAt: 2025-07-01 15:07:00 -0400 (Tue, 01 Jul 2025) EllapsedTime: 2.1 seconds RetCode: 0 Status: OK