Package: DeconRNASeq Version: 1.51.0 Command: /Library/Frameworks/R.framework/Resources/bin/R CMD build --keep-empty-dirs --no-resave-data DeconRNASeq StartedAt: 2025-07-01 16:03:19 -0400 (Tue, 01 Jul 2025) EndedAt: 2025-07-01 16:03:25 -0400 (Tue, 01 Jul 2025) EllapsedTime: 6.1 seconds RetCode: 0 Status: OK PackageFile: DeconRNASeq_1.51.0.tar.gz PackageFileSize: 6.623 MiB