Package: DeconRNASeq Version: 1.51.0 Command: rm -rf DeconRNASeq.buildbin-libdir && mkdir DeconRNASeq.buildbin-libdir && /Users/biocbuild/BBS/utils/build-universal.sh DeconRNASeq_1.51.0.tar.gz /Library/Frameworks/R.framework/Resources/bin/R DeconRNASeq.buildbin-libdir StartedAt: 2025-07-01 22:16:12 -0400 (Tue, 01 Jul 2025) EndedAt: 2025-07-01 22:16:15 -0400 (Tue, 01 Jul 2025) EllapsedTime: 3.1 seconds RetCode: 0 Status: OK PackageFile: DeconRNASeq_1.51.0.tgz PackageFileSize: 6.662 MiB