Package: DeProViR Version: 1.3.1 Command: F:\biocbuild\bbs-3.22-bioc\R\bin\R.exe CMD INSTALL DeProViR StartedAt: 2025-04-08 15:40:19 -0400 (Tue, 08 Apr 2025) EndedAt: 2025-04-08 15:40:40 -0400 (Tue, 08 Apr 2025) EllapsedTime: 20.6 seconds RetCode: 0 Status: OK