Package: DeMixT Version: 1.25.0 Command: /home/biocbuild/R/R/bin/R CMD check --install=check:DeMixT.install-out.txt --library=/home/biocbuild/R/R/site-library --no-vignettes --timings DeMixT_1.25.0.tar.gz StartedAt: 2025-10-07 07:09:11 -0000 (Tue, 07 Oct 2025) EndedAt: 2025-10-07 07:17:16 -0000 (Tue, 07 Oct 2025) EllapsedTime: 485.4 seconds RetCode: 0 Status: WARNINGS CheckDir: DeMixT.Rcheck Warnings: 3