Package: DeMixT Version: 1.25.0 Command: rm -rf DeMixT.buildbin-libdir && mkdir DeMixT.buildbin-libdir && F:\biocbuild\bbs-3.22-bioc\R\bin\R.exe CMD INSTALL --build --library=DeMixT.buildbin-libdir DeMixT_1.25.0.tar.gz StartedAt: 2025-08-15 10:08:05 -0400 (Fri, 15 Aug 2025) EndedAt: 2025-08-15 10:09:26 -0400 (Fri, 15 Aug 2025) EllapsedTime: 80.9 seconds RetCode: 0 Status: OK PackageFile: DeMixT_1.25.0.zip PackageFileSize: 4.264 MiB