Package: DeMixT Version: 1.27.0 Command: rm -rf DeMixT.buildbin-libdir && mkdir DeMixT.buildbin-libdir && /Users/biocbuild/BBS/utils/build-universal.sh DeMixT_1.27.0.tar.gz /Library/Frameworks/R.framework/Resources/bin/R DeMixT.buildbin-libdir StartedAt: 2025-11-13 23:35:01 -0500 (Thu, 13 Nov 2025) EndedAt: 2025-11-13 23:35:30 -0500 (Thu, 13 Nov 2025) EllapsedTime: 29.7 seconds RetCode: 0 Status: OK PackageFile: DeMixT_1.27.0.tgz PackageFileSize: 3.973 MiB