Package: Damsel Version: 1.5.0 Command: /home/biocbuild/R/R/bin/R CMD build --keep-empty-dirs --no-resave-data Damsel StartedAt: 2025-07-21 23:08:03 -0000 (Mon, 21 Jul 2025) EndedAt: 2025-07-21 23:11:24 -0000 (Mon, 21 Jul 2025) EllapsedTime: 201.1 seconds RetCode: 0 Status: OK PackageFile: Damsel_1.5.0.tar.gz PackageFileSize: 2.356 MiB