Package: Damsel Version: 1.5.0 Command: /home/biocbuild/bbs-3.22-bioc/R/bin/R CMD INSTALL Damsel StartedAt: 2025-07-15 15:44:59 -0400 (Tue, 15 Jul 2025) EndedAt: 2025-07-15 15:45:04 -0400 (Tue, 15 Jul 2025) EllapsedTime: 5.3 seconds RetCode: 0 Status: OK