Package: Damsel Version: 1.5.0 Command: /home/biocbuild/bbs-3.22-bioc/R/bin/R CMD build --keep-empty-dirs --no-resave-data --md5 Damsel StartedAt: 2025-07-16 17:03:47 -0400 (Wed, 16 Jul 2025) EndedAt: 2025-07-16 17:06:18 -0400 (Wed, 16 Jul 2025) EllapsedTime: 151.2 seconds RetCode: 0 Status: OK PackageFile: Damsel_1.5.0.tar.gz PackageFileSize: 3.257 MiB