Package: Damsel Version: 1.5.0 Command: rm -rf Damsel.buildbin-libdir && mkdir Damsel.buildbin-libdir && /Users/biocbuild/BBS/utils/build-universal.sh Damsel_1.5.0.tar.gz /Library/Frameworks/R.framework/Resources/bin/R Damsel.buildbin-libdir StartedAt: 2025-07-17 00:51:19 -0400 (Thu, 17 Jul 2025) EndedAt: 2025-07-17 00:51:29 -0400 (Thu, 17 Jul 2025) EllapsedTime: 10.4 seconds RetCode: 0 Status: OK PackageFile: Damsel_1.5.0.tgz PackageFileSize: 3.233 MiB