Package: DaMiRseq Version: 2.21.0 Command: /home/biocbuild/R/R/bin/R CMD check --install=check:DaMiRseq.install-out.txt --library=/home/biocbuild/R/R/site-library --no-vignettes --timings DaMiRseq_2.21.0.tar.gz StartedAt: 2025-07-11 07:11:18 -0000 (Fri, 11 Jul 2025) EndedAt: 2025-07-11 07:19:29 -0000 (Fri, 11 Jul 2025) EllapsedTime: 491.3 seconds RetCode: 0 Status: OK CheckDir: DaMiRseq.Rcheck Warnings: 0