Package: DaMiRseq Version: 2.21.0 Command: /home/biocbuild/R/R/bin/R CMD build --keep-empty-dirs --no-resave-data DaMiRseq StartedAt: 2025-07-11 00:11:28 -0000 (Fri, 11 Jul 2025) EndedAt: 2025-07-11 00:22:58 -0000 (Fri, 11 Jul 2025) EllapsedTime: 690.3 seconds RetCode: 0 Status: OK PackageFile: DaMiRseq_2.21.0.tar.gz PackageFileSize: 4.206 MiB