Package: DaMiRseq Version: 2.21.0 Command: chmod a+r DaMiRseq -R && F:\biocbuild\bbs-3.22-bioc\R\bin\R.exe CMD build --keep-empty-dirs --no-resave-data DaMiRseq StartedAt: 2025-07-20 18:21:11 -0400 (Sun, 20 Jul 2025) EndedAt: 2025-07-20 18:31:46 -0400 (Sun, 20 Jul 2025) EllapsedTime: 634.2 seconds RetCode: 0 Status: OK PackageFile: DaMiRseq_2.21.0.tar.gz PackageFileSize: 4.222 MiB