Package: DaMiRseq Version: 2.21.0 Command: rm -rf DaMiRseq.buildbin-libdir && mkdir DaMiRseq.buildbin-libdir && F:\biocbuild\bbs-3.22-bioc\R\bin\R.exe CMD INSTALL --build --library=DaMiRseq.buildbin-libdir DaMiRseq_2.21.0.tar.gz StartedAt: 2025-07-21 08:52:14 -0400 (Mon, 21 Jul 2025) EndedAt: 2025-07-21 08:53:44 -0400 (Mon, 21 Jul 2025) EllapsedTime: 89.4 seconds RetCode: 0 Status: OK PackageFile: DaMiRseq_2.21.0.zip PackageFileSize: 4.38 MiB