Package: DaMiRseq Version: 2.21.0 Command: /Library/Frameworks/R.framework/Resources/bin/R CMD INSTALL DaMiRseq StartedAt: 2025-07-07 15:26:33 -0400 (Mon, 07 Jul 2025) EndedAt: 2025-07-07 15:26:57 -0400 (Mon, 07 Jul 2025) EllapsedTime: 23.4 seconds RetCode: 0 Status: OK