Package: DaMiRseq Version: 2.21.0 Command: /Library/Frameworks/R.framework/Resources/bin/R CMD check --install=check:DaMiRseq.install-out.txt --library=/Library/Frameworks/R.framework/Resources/library --no-vignettes --timings DaMiRseq_2.21.0.tar.gz StartedAt: 2025-07-07 18:47:46 -0400 (Mon, 07 Jul 2025) EndedAt: 2025-07-07 18:50:21 -0400 (Mon, 07 Jul 2025) EllapsedTime: 154.8 seconds RetCode: 0 Status: OK CheckDir: DaMiRseq.Rcheck Warnings: 0