Package: DTA Version: 2.55.0 Command: chmod a+r DTA -R && F:\biocbuild\bbs-3.22-bioc\R\bin\R.exe CMD build --keep-empty-dirs --no-resave-data DTA StartedAt: 2025-07-24 18:53:20 -0400 (Thu, 24 Jul 2025) EndedAt: 2025-07-24 19:21:36 -0400 (Thu, 24 Jul 2025) EllapsedTime: 1695.8 seconds RetCode: 0 Status: OK PackageFile: DTA_2.55.0.tar.gz PackageFileSize: 11.27 MiB