Package: DTA Version: 2.55.0 Command: /home/biocbuild/bbs-3.22-bioc/R/bin/R CMD check --install=check:DTA.install-out.txt --library=/home/biocbuild/bbs-3.22-bioc/R/site-library --timings DTA_2.55.0.tar.gz StartedAt: 2025-06-29 21:53:41 -0400 (Sun, 29 Jun 2025) EndedAt: 2025-06-29 22:01:44 -0400 (Sun, 29 Jun 2025) EllapsedTime: 482.5 seconds RetCode: 0 Status: OK CheckDir: DTA.Rcheck Warnings: 0