Package: DTA Version: 2.55.0 Command: /Library/Frameworks/R.framework/Resources/bin/R CMD INSTALL DTA StartedAt: 2025-06-29 15:05:37 -0400 (Sun, 29 Jun 2025) EndedAt: 2025-06-29 15:06:13 -0400 (Sun, 29 Jun 2025) EllapsedTime: 36.1 seconds RetCode: 0 Status: OK