Package: DTA Version: 2.55.0 Command: /Library/Frameworks/R.framework/Resources/bin/R CMD build --keep-empty-dirs --no-resave-data DTA StartedAt: 2025-06-29 16:37:33 -0400 (Sun, 29 Jun 2025) EndedAt: 2025-06-29 16:42:33 -0400 (Sun, 29 Jun 2025) EllapsedTime: 300.2 seconds RetCode: 0 Status: OK PackageFile: DTA_2.55.0.tar.gz PackageFileSize: 9.051 MiB