Package: DTA Version: 2.55.0 Command: rm -rf DTA.buildbin-libdir && mkdir DTA.buildbin-libdir && /Users/biocbuild/BBS/utils/build-universal.sh DTA_2.55.0.tar.gz /Library/Frameworks/R.framework/Resources/bin/R DTA.buildbin-libdir StartedAt: 2025-06-29 22:16:45 -0400 (Sun, 29 Jun 2025) EndedAt: 2025-06-29 22:16:48 -0400 (Sun, 29 Jun 2025) EllapsedTime: 3.1 seconds RetCode: 0 Status: OK PackageFile: DTA_2.55.0.tgz PackageFileSize: 9.31 MiB