Package: DSS Version: 2.57.0 Command: F:\biocbuild\bbs-3.22-bioc\R\bin\R.exe CMD INSTALL DSS StartedAt: 2025-07-24 16:38:56 -0400 (Thu, 24 Jul 2025) EndedAt: 2025-07-24 16:39:53 -0400 (Thu, 24 Jul 2025) EllapsedTime: 56.5 seconds RetCode: 0 Status: OK