Package: DSS Version: 2.57.0 Command: chmod a+r DSS -R && F:\biocbuild\bbs-3.22-bioc\R\bin\R.exe CMD build --keep-empty-dirs --no-resave-data DSS StartedAt: 2025-07-24 18:52:53 -0400 (Thu, 24 Jul 2025) EndedAt: 2025-07-24 18:54:21 -0400 (Thu, 24 Jul 2025) EllapsedTime: 88.3 seconds RetCode: 0 Status: OK PackageFile: DSS_2.57.0.tar.gz PackageFileSize: 2.029 MiB