Package: DSS Version: 2.57.0 Command: /home/biocbuild/bbs-3.22-bioc/R/bin/R CMD build --keep-empty-dirs --no-resave-data --md5 DSS StartedAt: 2025-07-13 17:02:50 -0400 (Sun, 13 Jul 2025) EndedAt: 2025-07-13 17:03:51 -0400 (Sun, 13 Jul 2025) EllapsedTime: 61.1 seconds RetCode: 0 Status: OK PackageFile: DSS_2.57.0.tar.gz PackageFileSize: 2.03 MiB