Package: DSS Version: 2.57.0 Command: /Library/Frameworks/R.framework/Resources/bin/R CMD INSTALL DSS StartedAt: 2025-07-22 15:14:50 -0400 (Tue, 22 Jul 2025) EndedAt: 2025-07-22 15:15:07 -0400 (Tue, 22 Jul 2025) EllapsedTime: 16.9 seconds RetCode: 0 Status: OK