Package: DSS Version: 2.57.0 Command: /Library/Frameworks/R.framework/Resources/bin/R CMD build --keep-empty-dirs --no-resave-data DSS StartedAt: 2025-07-22 16:11:36 -0400 (Tue, 22 Jul 2025) EndedAt: 2025-07-22 16:12:02 -0400 (Tue, 22 Jul 2025) EllapsedTime: 26.3 seconds RetCode: 0 Status: OK PackageFile: DSS_2.57.0.tar.gz PackageFileSize: 2.029 MiB