Package: DSS Version: 2.57.0 Command: rm -rf DSS.buildbin-libdir && mkdir DSS.buildbin-libdir && /Users/biocbuild/BBS/utils/build-universal.sh DSS_2.57.0.tar.gz /Library/Frameworks/R.framework/Resources/bin/R DSS.buildbin-libdir StartedAt: 2025-07-22 22:22:56 -0400 (Tue, 22 Jul 2025) EndedAt: 2025-07-22 22:23:15 -0400 (Tue, 22 Jul 2025) EllapsedTime: 18.4 seconds RetCode: 0 Status: OK PackageFile: DSS_2.57.0.tgz PackageFileSize: 1.602 MiB