Package: DNEA Version: 0.99.14 Command: /home/biocbuild/R/R/bin/R CMD INSTALL DNEA StartedAt: 2025-07-14 20:58:02 -0000 (Mon, 14 Jul 2025) EndedAt: 2025-07-14 20:58:45 -0000 (Mon, 14 Jul 2025) EllapsedTime: 42.8 seconds RetCode: 0 Status: OK