Package: DNEA Version: 0.99.14 Command: /home/biocbuild/R/R/bin/R CMD check --install=check:DNEA.install-out.txt --library=/home/biocbuild/R/R/site-library --no-vignettes --timings DNEA_0.99.14.tar.gz StartedAt: 2025-07-15 06:54:04 -0000 (Tue, 15 Jul 2025) EndedAt: 2025-07-15 07:06:57 -0000 (Tue, 15 Jul 2025) EllapsedTime: 773.6 seconds RetCode: 0 Status: OK CheckDir: DNEA.Rcheck Warnings: 0