Package: DNEA Version: 0.99.14 Command: /home/biocbuild/R/R/bin/R CMD build --keep-empty-dirs --no-resave-data DNEA StartedAt: 2025-07-14 23:16:28 -0000 (Mon, 14 Jul 2025) EndedAt: 2025-07-14 23:18:33 -0000 (Mon, 14 Jul 2025) EllapsedTime: 125.0 seconds RetCode: 0 Status: OK PackageFile: DNEA_0.99.14.tar.gz PackageFileSize: 3.564 MiB